BEGIN:VCALENDAR
VERSION:2.0
PRODID:Marathon County, WI Calendar Creator
METHOD:PUBLISH
BEGIN:VEVENT
DTSTAMP:20260313T120639
DTSTART:20260316T120000
DTEND:20260316T133000
SUMMARY:Rules Review Committee
DESCRIPTION:
X-ALT-DESC;FMTTYPE=text/html:
LOCATION:Marathon County Courthouse\, 500 Forest Street Wausau\, Wisconsin 54403
CLASS:PUBLIC
END:VEVENT
END:VCALENDAR
