BEGIN:VCALENDAR
VERSION:2.0
PRODID:Marathon County, WI Calendar Creator
METHOD:PUBLISH
BEGIN:VEVENT
DTSTAMP:20251028T153709
DTSTART:20260615T120000
DTEND:20260615T130000
SUMMARY:Library Board
DESCRIPTION:<p>Meeting in the Wausau Community Room at the Wausau Headquarters.&nbsp;</p><p>Detailed information will be provided here at a later date.</p>
X-ALT-DESC;FMTTYPE=text/html:<p>Meeting in the Wausau Community Room at the Wausau Headquarters.&nbsp;</p><p>Detailed information will be provided here at a later date.</p>
LOCATION:Marathon County Public Library - Wausau Headquarters\, 300 N First Street Wausau\, Wisconsin 54403
CLASS:PUBLIC
END:VEVENT
END:VCALENDAR
