BEGIN:VCALENDAR
VERSION:2.0
PRODID:Marathon County, WI Calendar Creator
METHOD:PUBLISH
BEGIN:VEVENT
DTSTAMP:20260317T111345
DTSTART:20260326T090000
DTEND:20260326T115900
SUMMARY:CANCELLED: Board of Adjustment
DESCRIPTION:This meeting will be located in the Wisconsin Room.&nbsp;
X-ALT-DESC;FMTTYPE=text/html:This meeting will be located in the Wisconsin Room.&nbsp;
LOCATION:Lake View Conference Center\, 1000 Lake View Drive Wausau\, Wisconsin 54403
CLASS:PUBLIC
END:VEVENT
END:VCALENDAR
