BEGIN:VCALENDAR
VERSION:2.0
PRODID:Marathon County, WI Calendar Creator
METHOD:PUBLISH
BEGIN:VEVENT
DTSTAMP:20251112T103835
DTSTART:20260723T090000
DTEND:20260723T115900
SUMMARY:Board of Adjustment
DESCRIPTION:
X-ALT-DESC;FMTTYPE=text/html:
LOCATION:Lake View Conference Center\, 1000 Lake View Drive Wausau\, Wisconsin 54403
CLASS:PUBLIC
END:VEVENT
END:VCALENDAR
