BEGIN:VCALENDAR
VERSION:2.0
PRODID:Marathon County, WI Calendar Creator
METHOD:PUBLISH
BEGIN:VEVENT
DTSTAMP:20260320T131811
DTSTART:20260324T180000
DTEND:20260324T200000
SUMMARY:County Board
DESCRIPTION:<a href="https://marathon.prod-as.govaccess.org/home/showpublisheddocument/18108/639096021239470000" target="_blank" rel="noopener">February 19 Minutes</a>
X-ALT-DESC;FMTTYPE=text/html:<a href="https://marathon.prod-as.govaccess.org/home/showpublisheddocument/18108/639096021239470000" target="_blank" rel="noopener">February 19 Minutes</a>
LOCATION:Marathon County Courthouse\, 500 Forest St Wausau\, Wisconsin 54403
CLASS:PUBLIC
END:VEVENT
END:VCALENDAR
