BEGIN:VCALENDAR
VERSION:2.0
PRODID:Marathon County, WI Calendar Creator
METHOD:PUBLISH
BEGIN:VEVENT
DTSTAMP:20260306T113635
DTSTART:20260311T150000
DTEND:20260311T163000
SUMMARY:Human Resources Finance and Property Committee
DESCRIPTION:
X-ALT-DESC;FMTTYPE=text/html:
LOCATION:Marathon County Courthouse\, 500 Forest St Wausau\, Wisconsin 54403
CLASS:PUBLIC
END:VEVENT
END:VCALENDAR
