BEGIN:VCALENDAR
VERSION:2.0
PRODID:Marathon County, WI Calendar Creator
METHOD:PUBLISH
BEGIN:VEVENT
DTSTAMP:20260319T111748
DTSTART:20260319T080000
DTEND:20260319T093000
SUMMARY:Criminal Justice Coordinating Council
DESCRIPTION:<p>The Criminal Justice Coordinating Council meeting will be held in the Assembly Room of the Marathon County Courthouse, 500 Forest Street, Wausau, WI 54403. </p>
X-ALT-DESC;FMTTYPE=text/html:<p>The Criminal Justice Coordinating Council meeting will be held in the Assembly Room of the Marathon County Courthouse, 500 Forest Street, Wausau, WI 54403. </p>
LOCATION:Marathon County Courthouse\, 500 Forest Street Wausau\, Wisconsin 54403
CLASS:PUBLIC
END:VEVENT
END:VCALENDAR
