BEGIN:VCALENDAR
VERSION:2.0
PRODID:Marathon County, WI Calendar Creator
METHOD:PUBLISH
BEGIN:VEVENT
DTSTAMP:20260408T124733
DTSTART:20260416T080000
DTEND:20260416T093000
SUMMARY:CANCELLED: Criminal Justice Coordinating Council Executive Committee
DESCRIPTION:The Criminal Justice Coordinating Council Executive Committee meeting will be held in the Justice Programs Conference Room of the Marathon County Courthouse, 500 Forest Street, Wausau, WI.&nbsp;
X-ALT-DESC;FMTTYPE=text/html:The Criminal Justice Coordinating Council Executive Committee meeting will be held in the Justice Programs Conference Room of the Marathon County Courthouse, 500 Forest Street, Wausau, WI.&nbsp;
LOCATION:Marathon County Courthouse\, 500 Forest Street Wausau\, Wisconsin 54403
CLASS:PUBLIC
END:VEVENT
END:VCALENDAR
