BEGIN:VCALENDAR
VERSION:2.0
PRODID:Marathon County, WI Calendar Creator
METHOD:PUBLISH
BEGIN:VEVENT
DTSTAMP:20260225T164619
DTSTART:20260511T140000
DTEND:20260511T160000
SUMMARY:Solid Waste Management Board
DESCRIPTION:<p>The meeting will be held in the Wisconsin Room of the Lake View Conference Center, located at 1000 Lakeview Drive, Wausau, WI 54403.</p><p>Park in Lots D or E and enter through Door #31.</p>
X-ALT-DESC;FMTTYPE=text/html:<p>The meeting will be held in the Wisconsin Room of the Lake View Conference Center, located at 1000 Lakeview Drive, Wausau, WI 54403.</p><p>Park in Lots D or E and enter through Door #31.</p>
LOCATION:Lake View Conference Center\, 1000 Lake View Drive Wausau\, Wisconsin 54403
CLASS:PUBLIC
END:VEVENT
END:VCALENDAR
