BEGIN:VCALENDAR
VERSION:2.0
PRODID:Marathon County, WI Calendar Creator
METHOD:PUBLISH
BEGIN:VEVENT
DTSTAMP:20260225T173818
DTSTART:20261214T140000
DTEND:20261214T160000
SUMMARY:Solid Waste Management Board
DESCRIPTION:<p>The meeting will be held in the Wisconsin Room of the Lake View Conference Center, located at 1000 Lakeview Drive, Wausau, WI 54403.</p><p>Park in Lots D or E and enter through Door #31.</p>
X-ALT-DESC;FMTTYPE=text/html:<p>The meeting will be held in the Wisconsin Room of the Lake View Conference Center, located at 1000 Lakeview Drive, Wausau, WI 54403.</p><p>Park in Lots D or E and enter through Door #31.</p>
LOCATION:
CLASS:PUBLIC
END:VEVENT
END:VCALENDAR
