BEGIN:VCALENDAR
VERSION:2.0
PRODID:Marathon County, WI Calendar Creator
METHOD:PUBLISH
BEGIN:VEVENT
DTSTAMP:20260303T162639
DTSTART:20260306T130000
DTEND:20260306T150000
SUMMARY:NCHC Executive Committee
DESCRIPTION:<p>The NCHC Executive Committee will meet in the Eagle Board Room of North Central Health Care, 2400 Marshall Street, Suite A, Door #1, Wausau, WI.</p>
X-ALT-DESC;FMTTYPE=text/html:<p>The NCHC Executive Committee will meet in the Eagle Board Room of North Central Health Care, 2400 Marshall Street, Suite A, Door #1, Wausau, WI.</p>
LOCATION:North Central Health Care\, 2400 Marshall Street\, Suite A Wausau\, Wisconsin 54403
CLASS:PUBLIC
END:VEVENT
END:VCALENDAR
