BEGIN:VCALENDAR
VERSION:2.0
PRODID:Marathon County, WI Calendar Creator
METHOD:PUBLISH
BEGIN:VEVENT
DTSTAMP:20260304T092906
DTSTART:20260312T140000
DTEND:20260312T235900
SUMMARY:Local Emergency Planning Committee
DESCRIPTION:The Local Emergency Planning Committee meeting will be held at 2:00 PM on Thursday, March 12, 2026, in the Wisconsin Room of the Lake View Conference Center, 1000 Lake View Drive, Wausau, WI (Door 31).
X-ALT-DESC;FMTTYPE=text/html:The Local Emergency Planning Committee meeting will be held at 2:00 PM on Thursday, March 12, 2026, in the Wisconsin Room of the Lake View Conference Center, 1000 Lake View Drive, Wausau, WI (Door 31).
LOCATION:Lake View Conference Center\, 1000 Lake View Drive Wausau\, Wisconsin 54403
CLASS:PUBLIC
END:VEVENT
END:VCALENDAR
