BEGIN:VCALENDAR
VERSION:2.0
PRODID:Marathon County, WI Calendar Creator
METHOD:PUBLISH
BEGIN:VEVENT
DTSTAMP:20260304T095544
DTSTART:20260319T093000
DTEND:20260319T235900
SUMMARY:Civil Service Commission
DESCRIPTION:Meeting in the Assembly Room.
X-ALT-DESC;FMTTYPE=text/html:Meeting in the Assembly Room.
LOCATION:Marathon County Courthouse\, 500 Forest Street Wausau\, Wisconsin 54403
CLASS:PUBLIC
END:VEVENT
END:VCALENDAR
