BEGIN:VCALENDAR
VERSION:2.0
PRODID:Marathon County, WI Calendar Creator
METHOD:PUBLISH
BEGIN:VEVENT
DTSTAMP:20260324T102745
DTSTART:20260326T153000
DTEND:20260326T163000
SUMMARY:WCAN Meeting
DESCRIPTION:<p style="text-align: left;"><b>WEBEX/Marathon County Courthouse</b></p><p style="text-align: left;"><b>Assembly Room</b></p><p align="center" style="text-align: left;"><b>500 Forest Street Wausau, WI</b></p>
X-ALT-DESC;FMTTYPE=text/html:<p style="text-align: left;"><b>WEBEX/Marathon County Courthouse</b></p><p style="text-align: left;"><b>Assembly Room</b></p><p align="center" style="text-align: left;"><b>500 Forest Street Wausau, WI</b></p>
LOCATION:Marathon County Courthouse\, 500 Forest Street Wausau\, Wisconsin 54403
CLASS:PUBLIC
END:VEVENT
END:VCALENDAR
