BEGIN:VCALENDAR
VERSION:2.0
PRODID:Marathon County, WI Calendar Creator
METHOD:PUBLISH
BEGIN:VEVENT
DTSTAMP:20260317T075336
DTSTART:20260318T153000
DTEND:20260318T163000
SUMMARY:Social Services Board Meeting
DESCRIPTION:<p>The Marathon County Social Services Board will meet at 3:30 p.m. on Wednesday, March 18, 2026, in the Winnebago Conference Room, Door 28, Room 197, 1000 Lake View Drive, Wausau, Wisconsin, as well as via WebEx.</p><p>To join meeting audio:</p><ul>    <li>Dial +1-408-418-9388</li>    <li>Meeting number (access code): 146 495 0804</li></ul>
X-ALT-DESC;FMTTYPE=text/html:<p>The Marathon County Social Services Board will meet at 3:30 p.m. on Wednesday, March 18, 2026, in the Winnebago Conference Room, Door 28, Room 197, 1000 Lake View Drive, Wausau, Wisconsin, as well as via WebEx.</p><p>To join meeting audio:</p><ul>    <li>Dial +1-408-418-9388</li>    <li>Meeting number (access code): 146 495 0804</li></ul>
LOCATION:
CLASS:PUBLIC
END:VEVENT
END:VCALENDAR
