BEGIN:VCALENDAR
VERSION:2.0
PRODID:Marathon County, WI Calendar Creator
METHOD:PUBLISH
BEGIN:VEVENT
DTSTAMP:20260320T142902
DTSTART:20260326T150000
DTEND:20260326T170000
SUMMARY:NCHC Board of Directors
DESCRIPTION:<p>The North Central Health Care Board of Directors meeting will be held in the Eagle Board Room of North Central Health Care, 2400 Marshall Street, Suite A, Door #1, Wausau, WI.</p>
X-ALT-DESC;FMTTYPE=text/html:<p>The North Central Health Care Board of Directors meeting will be held in the Eagle Board Room of North Central Health Care, 2400 Marshall Street, Suite A, Door #1, Wausau, WI.</p>
LOCATION:North Central Health Care\, 2400 Marshall Street\, Suite A Wausau\, Wisconsin 54403
CLASS:PUBLIC
END:VEVENT
END:VCALENDAR
