BEGIN:VCALENDAR
VERSION:2.0
PRODID:Marathon County, WI Calendar Creator
METHOD:PUBLISH
BEGIN:VEVENT
DTSTAMP:20260401T090301
DTSTART:20260409T160000
DTEND:20260409T170000
SUMMARY:Veteran Service Commission Meeting
DESCRIPTION:
X-ALT-DESC;FMTTYPE=text/html:
LOCATION:Veterans Service Office\, 1100 Lake View Drive WAUSAU\, Wisconsin 54403
CLASS:PUBLIC
END:VEVENT
END:VCALENDAR
