BEGIN:VCALENDAR
VERSION:2.0
PRODID:Marathon County, WI Calendar Creator
METHOD:PUBLISH
BEGIN:VEVENT
DTSTAMP:20260409T134653
DTSTART:20260414T080000
DTEND:20260414T095900
SUMMARY:Airport Board
DESCRIPTION:<p>Monthly meeting of the Central Wisconsin Joint Airport Board.</p><p>Meetings are held at the Terminal - Upper Level Conference Room B.</p>
X-ALT-DESC;FMTTYPE=text/html:<p>Monthly meeting of the Central Wisconsin Joint Airport Board.</p><p>Meetings are held at the Terminal - Upper Level Conference Room B.</p>
LOCATION:
CLASS:PUBLIC
END:VEVENT
END:VCALENDAR
