BEGIN:VCALENDAR
VERSION:2.0
PRODID:Marathon County, WI Calendar Creator
METHOD:PUBLISH
BEGIN:VEVENT
DTSTAMP:20260410T113350
DTSTART:20260416T080000
DTEND:20260416T160000
SUMMARY:County Board Orientation
DESCRIPTION:
X-ALT-DESC;FMTTYPE=text/html:
LOCATION:
CLASS:PUBLIC
END:VEVENT
END:VCALENDAR
