BEGIN:VCALENDAR
VERSION:2.0
PRODID:Marathon County, WI Calendar Creator
METHOD:PUBLISH
BEGIN:VEVENT
DTSTAMP:20260422T132123
DTSTART:20260423T133000
DTEND:20260423T235900
SUMMARY:WCAN Meeting
DESCRIPTION:
X-ALT-DESC;FMTTYPE=text/html:
LOCATION:Wausau City Hall\, 407 Grant Street Wausau\, Wisconsin 54403
CLASS:PUBLIC
END:VEVENT
END:VCALENDAR
